BEGIN:VCALENDAR
PRODID:-//AT Content Types//AT Event//EN
VERSION:2.0
METHOD:PUBLISH
BEGIN:VEVENT
DTSTAMP:20260421T175830Z
CREATED:20240521T141548Z
UID:ATEvent-0254647f834a4d21b45d4a7fe266fa1c
LAST-MODIFIED:20240621T150617Z
SUMMARY:Listening Event - Trafford Town Hall
DTSTART:20240709T170000Z
DTEND:20240709T183000Z
DESCRIPTION:Trafford Town Hall \nTalbot Road. Stretford. M32 0TH.\nMar
 ia Margaret Netherwood Conference Room
CLASS:PUBLIC
END:VEVENT
END:VCALENDAR
