BEGIN:VCALENDAR
PRODID:-//AT Content Types//AT Event//EN
VERSION:2.0
METHOD:PUBLISH
BEGIN:VEVENT
DTSTAMP:20260421T175633Z
CREATED:20240521T141548Z
UID:ATEvent-99f102b14d5943ce8fe1dd646e46629e
LAST-MODIFIED:20240621T150617Z
SUMMARY:Listening Event - Altrincham Library
DTSTART:20240710T160000Z
DTEND:20240710T173000Z
DESCRIPTION:Altrincham Library \n2 Pott Street Altrincham WA14 1AH\nMe
 eting room 3
CLASS:PUBLIC
END:VEVENT
END:VCALENDAR
