BEGIN:VCALENDAR
PRODID:-//AT Content Types//AT Event//EN
VERSION:2.0
METHOD:PUBLISH
BEGIN:VEVENT
DTSTAMP:20260421T192302Z
CREATED:20240611T142049Z
UID:ATEvent-d70977ad57bd4859bbe57d1d2dc94702
LAST-MODIFIED:20240621T150617Z
SUMMARY:Listening event - Sale Woodheys Park
DTSTART:20240718T160000Z
DTEND:20240718T173000Z
DESCRIPTION:Sale- Woodheys Park - The pavilion\nKenmore Road\, Sale M3
 3 4LP
CLASS:PUBLIC
END:VEVENT
END:VCALENDAR
