BEGIN:VCALENDAR
PRODID:-//AT Content Types//AT Event//EN
VERSION:2.0
METHOD:PUBLISH
BEGIN:VEVENT
DTSTAMP:20260422T014943Z
CREATED:20211123T160736Z
UID:ATEvent-2c5e9f7846464a5e848e34de63c8eda0
LAST-MODIFIED:20211213T152042Z
SUMMARY:PUBLIC CONSULTATION (session 2)
DTSTART:20211208T170000Z
DTEND:20211208T190000Z
DESCRIPTION:Give your views in person at 85 School Road\, Sale where t
 he consultation boards will be on display and staff from the project t
 eam at Planit IE and Trafford Council will be on hand to speak with. \
 n\n85 School Road\nSale\, M33 7XA\n\nGoogle maps: https://goo.gl/maps/
 gkf8wmkHZYJwyYF29
CLASS:PUBLIC
END:VEVENT
END:VCALENDAR
