BEGIN:VCALENDAR
PRODID:-//AT Content Types//AT Event//EN
VERSION:2.0
METHOD:PUBLISH
BEGIN:VEVENT
DTSTAMP:20260422T014954Z
CREATED:20211123T160736Z
UID:ATEvent-bb4047c93f554ccf9c1b92aeb82917b4
LAST-MODIFIED:20211213T152042Z
SUMMARY:PUBLIC CONSULTATION (session 3)
DTSTART:20211209T120000Z
DTEND:20211209T140000Z
DESCRIPTION:Give your views in person at 85 School Road\, Sale where t
 he consultation boards will be on display and staff from the project t
 eam at Planit IE and Trafford Council will be on hand to speak with. \
 n\n\n85 School Road\nSale\, M33 7XA\n\nGoogle maps: https://goo.gl/map
 s/gkf8wmkHZYJwyYF29
CLASS:PUBLIC
END:VEVENT
END:VCALENDAR
