BEGIN:VCALENDAR
PRODID:-//AT Content Types//AT Event//EN
VERSION:2.0
METHOD:PUBLISH
BEGIN:VEVENT
DTSTAMP:20260421T193017Z
CREATED:20230629T093206Z
UID:ATEvent-26751b1118b746b3a6bb05334b6e75c5
LAST-MODIFIED:20230703T095440Z
SUMMARY:Agent and Architect Forum
DTSTART:20230710T130000Z
DTEND:20230710T150000Z
DESCRIPTION:Ticketed event specifically for Agents and Architects at T
 rafford Town Hall.  Tickets available via the Eventbrite link below.
CLASS:PUBLIC
END:VEVENT
END:VCALENDAR
