BEGIN:VCALENDAR
PRODID:-//AT Content Types//AT Event//EN
VERSION:2.0
METHOD:PUBLISH
BEGIN:VEVENT
DTSTAMP:20260421T193053Z
CREATED:20230629T093206Z
UID:ATEvent-ce67bf61f479485d9ab68f6b4ad6d3c3
LAST-MODIFIED:20230703T095440Z
SUMMARY:Developer and Landowner Forum
DTSTART:20230719T083000Z
DTEND:20230719T103000Z
DESCRIPTION:Ticketed event specifically for Developers and Landowners 
 at Trafford Town Hall.  Tickets available via the Eventbrite link belo
 w.
CLASS:PUBLIC
END:VEVENT
END:VCALENDAR
