BEGIN:VCALENDAR
PRODID:-//AT Content Types//AT Event//EN
VERSION:2.0
METHOD:PUBLISH
BEGIN:VEVENT
DTSTAMP:20260421T192736Z
CREATED:20230628T105808Z
UID:ATEvent-a8fcf6fd72214c1cba729d8b1162ae1b
LAST-MODIFIED:20230703T095440Z
SUMMARY:Trafford Design Code Public Consultation Event  - Altrincham Town Hall
DTSTART:20230906T150000Z
DTEND:20230906T183000Z
DESCRIPTION:Drop-in event for stakeholders to discuss the Code
CLASS:PUBLIC
END:VEVENT
END:VCALENDAR
