BEGIN:VCALENDAR
PRODID:-//AT Content Types//AT Event//EN
VERSION:2.0
METHOD:PUBLISH
BEGIN:VEVENT
DTSTAMP:20260421T193046Z
CREATED:20230628T105808Z
UID:ATEvent-7e5c978087da44a9be4f0acff203e131
LAST-MODIFIED:20230703T095440Z
SUMMARY:Trafford Design Code Public Consultation Event  - Trafford Town Hall
DTSTART:20230911T150000Z
DTEND:20230911T183000Z
DESCRIPTION:Drop-in event for stakeholders to discuss the Code
CLASS:PUBLIC
END:VEVENT
END:VCALENDAR
